BEGIN:VCALENDAR
PRODID:-//Flo Inc.//FloSoft//EN
BEGIN:VEVENT
DTSTART;TZID='Perth':20210227T100000
DTEND;TZID='Perth':20210227T103000
LOCATION:7/2 Wylie Place, Leederville
DESCRIPTION:OFI/Open Home: 7/2 Wylie Place\, Leederville\nSaturday 10:00 AM-10:30 AM\n\n\nClick the link for full listing information: woodvilleprop.com.au//for-rent/leederville/72-wylie-place/4433585
SUMMARY;LANGUAGE=en-in:Woodville Property OFI/Open Home - 7/2 Wylie Place\, Leederville
PRIORITY:3
END:VEVENT
END:VCALENDAR
