BEGIN:VCALENDAR
PRODID:-//Flo Inc.//FloSoft//EN
BEGIN:VEVENT
DTSTART;TZID='Perth':20210226T163000
DTEND;TZID='Perth':20210226T170000
LOCATION:33 Bradley Street, Yokine
DESCRIPTION:OFI/Open Home: 33 Bradley Street\, Yokine\nFriday 04:30 PM-05:00 PM\n\n\nClick the link for full listing information: woodvilleprop.com.au//for-rent/yokine/33-bradley-street/4445778
SUMMARY;LANGUAGE=en-in:Woodville Property OFI/Open Home - 33 Bradley Street\, Yokine
PRIORITY:3
END:VEVENT
END:VCALENDAR
