BEGIN:VCALENDAR
PRODID:-//Flo Inc.//FloSoft//EN
BEGIN:VEVENT
DTSTART;TZID='Perth':20210227T123000
DTEND;TZID='Perth':20210227T131500
LOCATION:31/19 Blackwood Avenue, Hamilton Hill
DESCRIPTION:OFI/Open Home: 31/19 Blackwood Avenue\, Hamilton Hill\nSaturday 12:30 PM-01:15 PM\n\n\nClick the link for full listing information: woodvilleprop.com.au//buy/hamilton-hill/3119-blackwood-avenue/4447993
SUMMARY;LANGUAGE=en-in:Woodville Property OFI/Open Home - 31/19 Blackwood Avenue\, Hamilton Hill
PRIORITY:3
END:VEVENT
END:VCALENDAR
